BEGIN:VCALENDAR
VERSION:2.0
PRODID:-//L&#039;École de Léran - ECPv6.15.20//NONSGML v1.0//EN
CALSCALE:GREGORIAN
METHOD:PUBLISH
X-ORIGINAL-URL:https://ecole-leran.fr
X-WR-CALDESC:Évènements pour L&#039;École de Léran
REFRESH-INTERVAL;VALUE=DURATION:PT1H
X-Robots-Tag:noindex
X-PUBLISHED-TTL:PT1H
BEGIN:VTIMEZONE
TZID:Europe/Paris
BEGIN:DAYLIGHT
TZOFFSETFROM:+0100
TZOFFSETTO:+0200
TZNAME:CEST
DTSTART:20190331T010000
END:DAYLIGHT
BEGIN:STANDARD
TZOFFSETFROM:+0200
TZOFFSETTO:+0100
TZNAME:CET
DTSTART:20191027T010000
END:STANDARD
BEGIN:DAYLIGHT
TZOFFSETFROM:+0100
TZOFFSETTO:+0200
TZNAME:CEST
DTSTART:20200329T010000
END:DAYLIGHT
BEGIN:STANDARD
TZOFFSETFROM:+0200
TZOFFSETTO:+0100
TZNAME:CET
DTSTART:20201025T010000
END:STANDARD
BEGIN:DAYLIGHT
TZOFFSETFROM:+0100
TZOFFSETTO:+0200
TZNAME:CEST
DTSTART:20210328T010000
END:DAYLIGHT
BEGIN:STANDARD
TZOFFSETFROM:+0200
TZOFFSETTO:+0100
TZNAME:CET
DTSTART:20211031T010000
END:STANDARD
BEGIN:DAYLIGHT
TZOFFSETFROM:+0100
TZOFFSETTO:+0200
TZNAME:CEST
DTSTART:20220327T010000
END:DAYLIGHT
BEGIN:STANDARD
TZOFFSETFROM:+0200
TZOFFSETTO:+0100
TZNAME:CET
DTSTART:20221030T010000
END:STANDARD
BEGIN:DAYLIGHT
TZOFFSETFROM:+0100
TZOFFSETTO:+0200
TZNAME:CEST
DTSTART:20230326T010000
END:DAYLIGHT
BEGIN:STANDARD
TZOFFSETFROM:+0200
TZOFFSETTO:+0100
TZNAME:CET
DTSTART:20231029T010000
END:STANDARD
BEGIN:DAYLIGHT
TZOFFSETFROM:+0100
TZOFFSETTO:+0200
TZNAME:CEST
DTSTART:20240331T010000
END:DAYLIGHT
BEGIN:STANDARD
TZOFFSETFROM:+0200
TZOFFSETTO:+0100
TZNAME:CET
DTSTART:20241027T010000
END:STANDARD
END:VTIMEZONE
BEGIN:VEVENT
DTSTART;TZID=Europe/Paris:20230616T180000
DTEND;TZID=Europe/Paris:20230616T190000
DTSTAMP:20260422T123801
CREATED:20230402T093119Z
LAST-MODIFIED:20230402T094501Z
UID:6688-1686938400-1686942000@ecole-leran.fr
SUMMARY:PIECE DE THEATRE
DESCRIPTION:Salle des Tilleuls\, à 18h
URL:https://ecole-leran.fr/evenement/spectacle-de-fin-dannee-4/
CATEGORIES:Agenda des Classes,CE1,CE2
ATTACH;FMTTYPE=image/jpeg:https://ecole-leran.fr/wp-content/uploads/sites/7/2023/04/Image-02-04-2023-a-11.30.jpg
END:VEVENT
BEGIN:VEVENT
DTSTART;TZID=Europe/Paris:20230515T140000
DTEND;TZID=Europe/Paris:20230515T160000
DTSTAMP:20260422T123801
CREATED:20230402T092727Z
LAST-MODIFIED:20230603T110942Z
UID:6685-1684159200-1684166400@ecole-leran.fr
SUMMARY:PROJET RUGBY
DESCRIPTION:lundi 15/05/23 à 14h \nlundi 22/05/23 à 9h30 \nmardi 30 mai à 14h \nlundi 5 juin à 14h \nlundi 12 juin à 14h \n  \nDates de report pour les deux premières séances manquées : \nVendredi 23 juin à 14h \nLundi 26 juin à 14h
URL:https://ecole-leran.fr/evenement/projet-rugby/
CATEGORIES:Agenda des Classes,CE1,CE2
ATTACH;FMTTYPE=image/jpeg:https://ecole-leran.fr/wp-content/uploads/sites/7/2023/04/Image-02-04-2023-a-11.26.jpg
END:VEVENT
BEGIN:VEVENT
DTSTART;TZID=Europe/Paris:20230418T120000
DTEND;TZID=Europe/Paris:20230418T160000
DTSTAMP:20260422T123801
CREATED:20230402T091657Z
LAST-MODIFIED:20230402T091847Z
UID:6680-1681819200-1681833600@ecole-leran.fr
SUMMARY:RENCONTRE USEP AU STADE DE LA BASTIDE SUR L'HERS
DESCRIPTION:Jeux traditionnnels : béret\, ballon chronomètre\, balle au capitaine\, thèque… \nPlusieurs écoles vont y participer : Villeneuve d’Olmes\, Bélesta\, La Bastide sur l’Hers. \nPensez au pique-nique !
URL:https://ecole-leran.fr/evenement/rencontre-usep-au-stade-de-la-bastide-sur-lhers/
ATTACH;FMTTYPE=image/jpeg:https://ecole-leran.fr/wp-content/uploads/sites/7/2023/04/Image-02-04-2023-a-11.11.jpg
END:VEVENT
BEGIN:VEVENT
DTSTART;TZID=Europe/Paris:20230406T140000
DTEND;TZID=Europe/Paris:20230406T160000
DTSTAMP:20260422T123801
CREATED:20230402T091221Z
LAST-MODIFIED:20230402T091221Z
UID:6676-1680789600-1680796800@ecole-leran.fr
SUMMARY:INITIATION A LA THEQUE AU STADE DE LERAN
DESCRIPTION:Le 6 avril et le 13 avril.
URL:https://ecole-leran.fr/evenement/initiation-a-la-theque-au-stade-de-leran/
CATEGORIES:Agenda des Classes,CE1,CE2
ATTACH;FMTTYPE=image/jpeg:https://ecole-leran.fr/wp-content/uploads/sites/7/2023/04/Image-02-04-2023-a-11.11.jpg
END:VEVENT
BEGIN:VEVENT
DTSTART;TZID=Europe/Paris:20230404T133000
DTEND;TZID=Europe/Paris:20230404T160000
DTSTAMP:20260422T123801
CREATED:20230402T090824Z
LAST-MODIFIED:20230402T090824Z
UID:6673-1680615000-1680624000@ecole-leran.fr
SUMMARY:PREVENTION MAIF
DESCRIPTION:La Prévention MAIF va intervenir sur le Savoir Rouler à Vélo avec une piste « sécurité routière » et un atelier agilité à vélo.
URL:https://ecole-leran.fr/evenement/prevention-maif-2/
CATEGORIES:Agenda des Classes,CE1,CE2
ATTACH;FMTTYPE=image/jpeg:https://ecole-leran.fr/wp-content/uploads/sites/7/2023/04/Image-02-04-2023-a-11.05.jpg
END:VEVENT
BEGIN:VEVENT
DTSTART;TZID=Europe/Paris:20230203T103000
DTEND;TZID=Europe/Paris:20230609T113000
DTSTAMP:20260422T123801
CREATED:20221023T093531Z
LAST-MODIFIED:20221023T093531Z
UID:6306-1675420200-1686310200@ecole-leran.fr
SUMMARY:Bibliothèque les vendredis 03/02/23\, 14/04/23 et 09/06/23
DESCRIPTION:Les enfants seront accueillis par le « réseau de lecture » (la médiathèque de Mirepoix se déplacera à Léran).
URL:https://ecole-leran.fr/evenement/bibliotheque-les-vendredis-03-02-23-14-04-23-et-09-06-23/
CATEGORIES:Agenda des Classes
ATTACH;FMTTYPE=image/jpeg:https://ecole-leran.fr/wp-content/uploads/sites/7/2022/09/IMG_3568.jpg
END:VEVENT
BEGIN:VEVENT
DTSTART;TZID=Europe/Paris:20221215T140000
DTEND;TZID=Europe/Paris:20221215T160000
DTSTAMP:20260422T123801
CREATED:20221023T093002Z
LAST-MODIFIED:20221023T093025Z
UID:6304-1671112800-1671120000@ecole-leran.fr
SUMMARY:Initiation aux premiers secours le jeudi 15 décembre
DESCRIPTION:Un pompier de Laroque d’Olmes viendra nous apprendre les gestes de premiers secours.
URL:https://ecole-leran.fr/evenement/initiation-aux-premiers-secours-le-jeudi-15-decembre/
CATEGORIES:Agenda des Classes
ATTACH;FMTTYPE=image/jpeg:https://ecole-leran.fr/wp-content/uploads/sites/7/2022/10/IMG_4096.jpg
END:VEVENT
BEGIN:VEVENT
DTSTART;TZID=Europe/Paris:20221118T140000
DTEND;TZID=Europe/Paris:20221125T163000
DTSTAMP:20260422T123801
CREATED:20221111T143941Z
LAST-MODIFIED:20221111T144404Z
UID:6326-1668780000-1669393800@ecole-leran.fr
SUMMARY:Initiation au façonnage de l'argile les vendredis 18 et 25 novembre
DESCRIPTION:Nous allons apprendre à façonner de l’argile avec un potier\, David\, et sa compagne Bea.
URL:https://ecole-leran.fr/evenement/poterie-les-vendredis-18-et-25-novembre/
CATEGORIES:Agenda des Classes
ATTACH;FMTTYPE=image/jpeg:https://ecole-leran.fr/wp-content/uploads/sites/7/2022/11/images.jpg
END:VEVENT
BEGIN:VEVENT
DTSTART;VALUE=DATE:20221115
DTEND;VALUE=DATE:20221217
DTSTAMP:20260422T123801
CREATED:20221023T091211Z
LAST-MODIFIED:20221023T094004Z
UID:6294-1668470400-1671235199@ecole-leran.fr
SUMMARY:Décharges direction les 15/11\, 02/12 et 16/12
DESCRIPTION:
URL:https://ecole-leran.fr/evenement/decharges-direction-les-18-11-02-12-et-16-12/
CATEGORIES:Agenda des Classes
ATTACH;FMTTYPE=image/jpeg:https://ecole-leran.fr/wp-content/uploads/sites/7/2019/11/index.jpg
END:VEVENT
BEGIN:VEVENT
DTSTART;TZID=Europe/Paris:20221114T140000
DTEND;TZID=Europe/Paris:20230522T150000
DTSTAMP:20260422T123801
CREATED:20221023T084834Z
LAST-MODIFIED:20221023T085201Z
UID:6285-1668434400-1684767600@ecole-leran.fr
SUMMARY:Projet Théa le L 14/11\, Ma 29/11\, L 12/12\, Ma 10/01\, L 16/01\, L 06/02\, L 06/03\, L 27/03\, L 03/04\, L 17/04\, L 22/05
DESCRIPTION:Un metteur en scène\, Olivier Chombart\, va intervenir auprès de mes élèves pour conduire des ateliers de pratique théâtrale. \n 
URL:https://ecole-leran.fr/evenement/projet-thea-le-l-14-11-ma-29-11-l-12-12-ma-10-01-l-16-01-l-06-02-l-06-03-l-27-03-l-03-04-l-17-04-l-22-05/
CATEGORIES:Agenda des Classes
ATTACH;FMTTYPE=image/jpeg:https://ecole-leran.fr/wp-content/uploads/sites/7/2022/10/Image-23-10-2022-à-10.50.jpg
END:VEVENT
BEGIN:VEVENT
DTSTART;TZID=Europe/Paris:20221110T140000
DTEND;TZID=Europe/Paris:20230217T160000
DTSTAMP:20260422T123801
CREATED:20221027T091642Z
LAST-MODIFIED:20221126T110405Z
UID:6320-1668088800-1676649600@ecole-leran.fr
SUMMARY:Foot de 14h à 15h les jeudis 10/17/24 novembre - 01/08 décembre et rencontre USEP de 13h30 à 16h20 le vendredi 17 février avec les écoles de Lavelanet Georges Sand et Laroque d'Olmes au stade de Léran
DESCRIPTION:Il s’agira de découvrir la pratique du foot avec un intervenant\, David Béret. \nAu cours du cycle\, on abordera la notion d’handicap via une sensibilisation sur le ceci foot et l’arbitrage.\n\nLa première séance se déroulera dans la cour d’école permettant de se rendre compte si l’espace est suffisant pour animer les séances.
URL:https://ecole-leran.fr/evenement/foot-les-jeudis-10-17-24-novembre-01-08-et-rencontre-usep-le-vendredi-09-decembre/
CATEGORIES:CE1,CE2
ATTACH;FMTTYPE=image/jpeg:https://ecole-leran.fr/wp-content/uploads/sites/7/2022/10/istockphoto-1150952747-612x612-1.jpg
END:VEVENT
BEGIN:VEVENT
DTSTART;VALUE=DATE:20221021
DTEND;VALUE=DATE:20221022
DTSTAMP:20260422T123801
CREATED:20220918T100420Z
LAST-MODIFIED:20220918T100525Z
UID:6180-1666310400-1666396799@ecole-leran.fr
SUMMARY:Décharge direction + exercice de confinement PPMS le 21/10
DESCRIPTION:
URL:https://ecole-leran.fr/evenement/decharge-direction-exercice-de-confinement-ppms/
CATEGORIES:Agenda des Classes
ATTACH;FMTTYPE=image/jpeg:https://ecole-leran.fr/wp-content/uploads/sites/7/2019/10/ppms.jpg
END:VEVENT
BEGIN:VEVENT
DTSTART;TZID=Europe/Paris:20221020T180000
DTEND;TZID=Europe/Paris:20221020T200000
DTSTAMP:20260422T123801
CREATED:20220918T100155Z
LAST-MODIFIED:20220918T100155Z
UID:6177-1666288800-1666296000@ecole-leran.fr
SUMMARY:Conseil d'école 1 le 20/10
DESCRIPTION:
URL:https://ecole-leran.fr/evenement/conseil-decole-1-le-20-10/
CATEGORIES:Agenda des Classes
ATTACH;FMTTYPE=image/jpeg:https://ecole-leran.fr/wp-content/uploads/sites/7/2022/09/IMG_3627.jpg
END:VEVENT
BEGIN:VEVENT
DTSTART;TZID=Europe/Paris:20221017T090000
DTEND;TZID=Europe/Paris:20221212T110000
DTSTAMP:20260422T123801
CREATED:20220919T165458Z
LAST-MODIFIED:20220919T165458Z
UID:6209-1665997200-1670842800@ecole-leran.fr
SUMMARY:Sorties piscine tous les lundis du 17/10 au 12/12
DESCRIPTION:Nous projetons des sorties à la piscine de Mirepoix les lundis 17/10\, 7/11\, 14/11\, 21/11\, 28/11\, 05/12 et 12/12. \nLe créneau dans l’eau est le même que les autres années : 9h45-10h30.
URL:https://ecole-leran.fr/evenement/sorties-piscine-tous-les-lundis-du-17-10-au-12-12/
CATEGORIES:Agenda des Classes
ATTACH;FMTTYPE=image/jpeg:https://ecole-leran.fr/wp-content/uploads/sites/7/2018/11/img_3243.jpg
END:VEVENT
BEGIN:VEVENT
DTSTART;VALUE=DATE:20221014
DTEND;VALUE=DATE:20221015
DTSTAMP:20260422T123801
CREATED:20220918T095446Z
LAST-MODIFIED:20220918T102500Z
UID:6174-1665705600-1665791999@ecole-leran.fr
SUMMARY:Visite de la grotte de Niaux le 14/10
DESCRIPTION: 
URL:https://ecole-leran.fr/evenement/visite-de-la-grotte-de-niaux-le-14-10/
CATEGORIES:Agenda des Classes
ATTACH;FMTTYPE=image/jpeg:https://ecole-leran.fr/wp-content/uploads/sites/7/2022/09/IMG_3626.jpg
END:VEVENT
BEGIN:VEVENT
DTSTART;TZID=Europe/Paris:20221007T103000
DTEND;TZID=Europe/Paris:20221007T120000
DTSTAMP:20260422T123801
CREATED:20221004T124046Z
LAST-MODIFIED:20221004T124046Z
UID:6219-1665138600-1665144000@ecole-leran.fr
SUMMARY:Bibliothèque les vendredis 7/10 et 16/12
DESCRIPTION:Notre classe sera accueillie à la bibliothèque de Léran pour des lectures d’albums et des emprunts.
URL:https://ecole-leran.fr/evenement/bibliotheque-les-vendredis-7-10-et-16-12/
CATEGORIES:Agenda des Classes
ATTACH;FMTTYPE=image/jpeg:https://ecole-leran.fr/wp-content/uploads/sites/7/2022/10/Image-04-10-2022-à-14.38.jpeg
END:VEVENT
BEGIN:VEVENT
DTSTART;VALUE=DATE:20221007
DTEND;VALUE=DATE:20221008
DTSTAMP:20260422T123801
CREATED:20220918T094440Z
LAST-MODIFIED:20220918T094737Z
UID:6168-1665100800-1665187199@ecole-leran.fr
SUMMARY:Élection des délégués de parents + décharge direction le 07/10
DESCRIPTION:
URL:https://ecole-leran.fr/evenement/election-des-delegues-de-parents-3/
CATEGORIES:Agenda des Classes
ATTACH;FMTTYPE=image/jpeg:https://ecole-leran.fr/wp-content/uploads/sites/7/2021/06/img_7270.jpg
END:VEVENT
BEGIN:VEVENT
DTSTART;TZID=Europe/Paris:20221004T140000
DTEND;TZID=Europe/Paris:20221004T160000
DTSTAMP:20260422T123801
CREATED:20220925T065952Z
LAST-MODIFIED:20220925T070506Z
UID:6215-1664892000-1664899200@ecole-leran.fr
SUMMARY:Animations tri des déchets les 4 et 11/10
DESCRIPTION:Les mardis 4 et 11 octobre à 14h nous bénéficierons d’animations sur le tri des déchets.
URL:https://ecole-leran.fr/evenement/animations-tri-des-dechets-les-4-et-11-10/
CATEGORIES:Agenda des Classes
ATTACH;FMTTYPE=image/jpeg:https://ecole-leran.fr/wp-content/uploads/sites/7/2022/09/csm_memotriR1_a5d7fbd08c.jpg
END:VEVENT
BEGIN:VEVENT
DTSTART;VALUE=DATE:20220926
DTEND;VALUE=DATE:20220927
DTSTAMP:20260422T123801
CREATED:20220918T094236Z
LAST-MODIFIED:20220918T094236Z
UID:6166-1664150400-1664236799@ecole-leran.fr
SUMMARY:Décharge de direction du 23/09 reportée au 26/09
DESCRIPTION:
URL:https://ecole-leran.fr/evenement/decharge-de-direction-du-23-09-reportee-au-26-09/
CATEGORIES:Agenda des Classes
ATTACH;FMTTYPE=image/jpeg:https://ecole-leran.fr/wp-content/uploads/sites/7/2018/09/images-1.jpg
END:VEVENT
BEGIN:VEVENT
DTSTART;TZID=Europe/Paris:20220919T080000
DTEND;TZID=Europe/Paris:20220923T170000
DTSTAMP:20260422T123801
CREATED:20220918T093746Z
LAST-MODIFIED:20220918T094614Z
UID:6163-1663574400-1663952400@ecole-leran.fr
SUMMARY:Évaluations nationales CE1 du 19/09 au 23/09
DESCRIPTION:
URL:https://ecole-leran.fr/evenement/evaluations-nationales-ce1/
CATEGORIES:Agenda des Classes
ATTACH;FMTTYPE=image/jpeg:https://ecole-leran.fr/wp-content/uploads/sites/7/2022/09/IMG_3623.jpg
END:VEVENT
BEGIN:VEVENT
DTSTART;TZID=Europe/Paris:20220919T080000
DTEND;TZID=Europe/Paris:20220919T110000
DTSTAMP:20260422T123801
CREATED:20220918T093335Z
LAST-MODIFIED:20220918T094640Z
UID:6160-1663574400-1663585200@ecole-leran.fr
SUMMARY:Photo le 19/09
DESCRIPTION:
URL:https://ecole-leran.fr/evenement/photo-2/
CATEGORIES:Agenda des Classes
ATTACH;FMTTYPE=image/jpeg:https://ecole-leran.fr/wp-content/uploads/sites/7/2022/09/IMG_3622.jpg
END:VEVENT
BEGIN:VEVENT
DTSTART;TZID=Europe/Paris:20200704T080000
DTEND;TZID=Europe/Paris:20200704T170000
DTSTAMP:20260422T123801
CREATED:20191003T173113Z
LAST-MODIFIED:20191003T173113Z
UID:4899-1593849600-1593882000@ecole-leran.fr
SUMMARY:vacances
DESCRIPTION:
URL:https://ecole-leran.fr/evenement/vacances-10/
CATEGORIES:CE2
ATTACH;FMTTYPE=image/jpeg:https://ecole-leran.fr/wp-content/uploads/sites/7/2019/10/vacances.jpg
END:VEVENT
BEGIN:VEVENT
DTSTART;TZID=Europe/Paris:20200611T180000
DTEND;TZID=Europe/Paris:20200611T200000
DTSTAMP:20260422T123801
CREATED:20191003T173007Z
LAST-MODIFIED:20191003T173007Z
UID:4897-1591898400-1591905600@ecole-leran.fr
SUMMARY:conseil d'école 3
DESCRIPTION:
URL:https://ecole-leran.fr/evenement/conseil-decole-3-3/
CATEGORIES:CE2
ATTACH;FMTTYPE=image/jpeg:https://ecole-leran.fr/wp-content/uploads/sites/7/2019/10/conseil-décole-1.jpg
END:VEVENT
BEGIN:VEVENT
DTSTART;TZID=Europe/Paris:20200607T080000
DTEND;TZID=Europe/Paris:20200607T170000
DTSTAMP:20260422T123801
CREATED:20191003T172922Z
LAST-MODIFIED:20191003T172922Z
UID:4894-1591516800-1591549200@ecole-leran.fr
SUMMARY:fête des mères
DESCRIPTION:
URL:https://ecole-leran.fr/evenement/fete-des-meres-4/
CATEGORIES:CE2
ATTACH;FMTTYPE=image/jpeg:https://ecole-leran.fr/wp-content/uploads/sites/7/2019/10/fete-mères.jpg
END:VEVENT
BEGIN:VEVENT
DTSTART;TZID=Europe/Paris:20200605T080000
DTEND;TZID=Europe/Paris:20200605T170000
DTSTAMP:20260422T123801
CREATED:20191003T172821Z
LAST-MODIFIED:20191003T172821Z
UID:4892-1591344000-1591376400@ecole-leran.fr
SUMMARY:bibli
DESCRIPTION:
URL:https://ecole-leran.fr/evenement/bibli-5/
CATEGORIES:CE2
ATTACH;FMTTYPE=image/jpeg:https://ecole-leran.fr/wp-content/uploads/sites/7/2019/10/bibli.jpg
END:VEVENT
BEGIN:VEVENT
DTSTART;TZID=Europe/Paris:20200601T080000
DTEND;TZID=Europe/Paris:20200601T170000
DTSTAMP:20260422T123801
CREATED:20191003T172741Z
LAST-MODIFIED:20191003T172741Z
UID:4889-1590998400-1591030800@ecole-leran.fr
SUMMARY:lundi de pentecôte
DESCRIPTION:
URL:https://ecole-leran.fr/evenement/lundi-de-pentecote-3/
CATEGORIES:CE2
ATTACH;FMTTYPE=image/jpeg:https://ecole-leran.fr/wp-content/uploads/sites/7/2019/10/pentecote.jpg
END:VEVENT
BEGIN:VEVENT
DTSTART;TZID=Europe/Paris:20200529T080000
DTEND;TZID=Europe/Paris:20200529T170000
DTSTAMP:20260422T123801
CREATED:20191003T172631Z
LAST-MODIFIED:20191003T172631Z
UID:4887-1590739200-1590771600@ecole-leran.fr
SUMMARY:décharge de direction
DESCRIPTION:
URL:https://ecole-leran.fr/evenement/decharge-de-direction-16/
CATEGORIES:CE2
ATTACH;FMTTYPE=image/jpeg:https://ecole-leran.fr/wp-content/uploads/sites/7/2019/10/décharge.jpg
END:VEVENT
BEGIN:VEVENT
DTSTART;TZID=Europe/Paris:20200521T080000
DTEND;TZID=Europe/Paris:20200524T170000
DTSTAMP:20260422T123801
CREATED:20191003T172553Z
LAST-MODIFIED:20191003T172553Z
UID:4884-1590048000-1590339600@ecole-leran.fr
SUMMARY:pont de l'ascension
DESCRIPTION:
URL:https://ecole-leran.fr/evenement/pont-de-lascension-3/
CATEGORIES:CE2
ATTACH;FMTTYPE=image/jpeg:https://ecole-leran.fr/wp-content/uploads/sites/7/2019/10/ascension.jpg
END:VEVENT
BEGIN:VEVENT
DTSTART;TZID=Europe/Paris:20200508T080000
DTEND;TZID=Europe/Paris:20200508T170000
DTSTAMP:20260422T123801
CREATED:20191003T172438Z
LAST-MODIFIED:20191003T172438Z
UID:4881-1588924800-1588957200@ecole-leran.fr
SUMMARY:victoire 1945
DESCRIPTION:
URL:https://ecole-leran.fr/evenement/victoire-1945-2/
CATEGORIES:CE2
ATTACH;FMTTYPE=image/jpeg:https://ecole-leran.fr/wp-content/uploads/sites/7/2019/10/8-mai.jpg
END:VEVENT
BEGIN:VEVENT
DTSTART;TZID=Europe/Paris:20200501T080000
DTEND;TZID=Europe/Paris:20200501T170000
DTSTAMP:20260422T123801
CREATED:20191003T172341Z
LAST-MODIFIED:20191003T172341Z
UID:4878-1588320000-1588352400@ecole-leran.fr
SUMMARY:fête du travail
DESCRIPTION:
URL:https://ecole-leran.fr/evenement/fete-du-travail-3/
CATEGORIES:CE2
ATTACH;FMTTYPE=image/jpeg:https://ecole-leran.fr/wp-content/uploads/sites/7/2019/10/fete-du-travail.jpg
END:VEVENT
END:VCALENDAR